{
 "currentVersion": 10.91,
 "serviceDescription": "AirPhoto2021_26910",
 "name": "AirPhoto2021_26910",
 "description": "",
 "extent": {
  "xmin": 475499.99999999907,
  "ymin": 5436000.100000001,
  "xmax": 506999.8999999991,
  "ymax": 5457000.000000001,
  "spatialReference": {
   "wkid": 26910,
   "latestWkid": 26910
  }
 },
 "initialExtent": {
  "xmin": 475499.99999999907,
  "ymin": 5436000.100000001,
  "xmax": 506999.8999999991,
  "ymax": 5457000.000000001,
  "spatialReference": {
   "wkid": 26910,
   "latestWkid": 26910
  }
 },
 "fullExtent": {
  "xmin": 475499.99999999907,
  "ymin": 5436000.100000001,
  "xmax": 506999.8999999991,
  "ymax": 5457000.000000001,
  "spatialReference": {
   "wkid": 26910,
   "latestWkid": 26910
  }
 },
 "hasMultidimensions": false,
 "pixelSizeX": 0.10000000000000007,
 "pixelSizeY": 0.10000000000000177,
 "datasetFormat": "MrSID",
 "uncompressedSize": 198448425003,
 "blockWidth": 1024,
 "blockHeight": 128,
 "compressionType": "Wavelet (MG3)",
 "bandNames": [
  "Band_1",
  "Band_2",
  "Band_3"
 ],
 "allowCopy": true,
 "allowAnalysis": true,
 "bandCount": 3,
 "noDataValue": 255,
 "noDataValues": [
  255,
  255,
  255
 ],
 "pixelType": "U8",
 "minPixelSize": 0,
 "maxPixelSize": 0,
 "copyrightText": "",
 "serviceDataType": "esriImageServiceDataTypeRGB",
 "serviceSourceType": "esriImageServiceSourceTypeDataset",
 "minValues": [
  0,
  0,
  0
 ],
 "maxValues": [
  255,
  255,
  255
 ],
 "meanValues": [
  137.87587412587,
  140.89235764236,
  132.03971028971
 ],
 "stdvValues": [
  69.317475537884,
  66.460974191216,
  70.446532615583
 ],
 "objectIdField": "",
 "fields": [],
 "capabilities": "Image,Metadata,Mensuration",
 "defaultMosaicMethod": "Center",
 "allowedMosaicMethods": "",
 "sortField": "",
 "sortValue": null,
 "sortAscending": true,
 "mosaicOperator": "First",
 "defaultCompressionQuality": 75,
 "defaultResamplingMethod": "Bilinear",
 "maxImageHeight": 4100,
 "maxImageWidth": 15000,
 "allowRasterFunction": true,
 "rasterFunctionInfos": [
  {
   "name": "None",
   "description": "",
   "help": ""
  }
 ],
 "rasterTypeInfos": [
  {
   "name": "Raster Dataset",
   "description": "Supports all ArcGIS Raster Datasets",
   "help": ""
  }
 ],
 "mensurationCapabilities": "Basic",
 "hasHistograms": true,
 "hasColormap": false,
 "hasRasterAttributeTable": false,
 "minScale": 0,
 "maxScale": 0,
 "exportTilesAllowed": false,
 "supportsStatistics": false,
 "supportsAdvancedQueries": false,
 "editFieldsInfo": null,
 "ownershipBasedAccessControlForRasters": null,
 "allowComputeTiePoints": false,
 "useStandardizedQueries": true,
 "advancedQueryCapabilities": {
  "useStandardizedQueries": true,
  "supportsStatistics": false,
  "supportsOrderBy": false,
  "supportsDistinct": false,
  "supportsPagination": false
 },
 "spatialReference": {
  "wkid": 26910,
  "latestWkid": 26910
 }
}
