{
 "currentVersion": 10.91,
 "serviceDescription": "AirPhotoSpring2023",
 "name": "AirPhotoSpring2023",
 "description": "",
 "extent": {
  "xmin": 476866.575,
  "ymin": 5436797.85,
  "xmax": 506481.525,
  "ymax": 5456010.6,
  "spatialReference": {
   "wkid": 26910,
   "latestWkid": 26910
  }
 },
 "initialExtent": {
  "xmin": 476866.575,
  "ymin": 5436797.85,
  "xmax": 506481.525,
  "ymax": 5456010.6,
  "spatialReference": {
   "wkid": 26910,
   "latestWkid": 26910
  }
 },
 "fullExtent": {
  "xmin": 476866.575,
  "ymin": 5436797.85,
  "xmax": 506481.525,
  "ymax": 5456010.6,
  "spatialReference": {
   "wkid": 26910,
   "latestWkid": 26910
  }
 },
 "pixelSizeX": 0.07500000000000002,
 "pixelSizeY": 0.075,
 "bandCount": 3,
 "pixelType": "U8",
 "minPixelSize": 0,
 "maxPixelSize": 0,
 "copyrightText": "",
 "serviceDataType": "esriImageServiceDataTypeScientific",
 "minValues": [
  0,
  0,
  0
 ],
 "maxValues": [
  216,
  207,
  204
 ],
 "meanValues": [
  51.234004254623,
  47.774014072983,
  40.553100965472
 ],
 "stdvValues": [
  60.502371539125,
  55.81403496147,
  47.969257526101
 ],
 "objectIdField": "",
 "fields": [],
 "capabilities": "Image,Metadata,Mensuration",
 "defaultMosaicMethod": "Center",
 "allowedMosaicMethods": "",
 "sortField": "",
 "sortValue": null,
 "sortAscending": true,
 "mosaicOperator": "First",
 "defaultCompressionQuality": 75,
 "defaultResamplingMethod": "Bilinear",
 "maxImageHeight": 4100,
 "maxImageWidth": 15000,
 "allowRasterFunction": true,
 "rasterFunctionInfos": [
  {
   "name": "None",
   "description": "",
   "help": ""
  }
 ],
 "rasterTypeInfos": [
  {
   "name": "Raster Dataset",
   "description": "Supports all ArcGIS Raster Datasets",
   "help": ""
  }
 ],
 "mensurationCapabilities": "Basic",
 "hasHistograms": true,
 "hasColormap": false,
 "hasRasterAttributeTable": false,
 "minScale": 0,
 "maxScale": 0,
 "exportTilesAllowed": false,
 "hasMultidimensions": false,
 "supportsStatistics": false,
 "supportsAdvancedQueries": false,
 "editFieldsInfo": null,
 "ownershipBasedAccessControlForRasters": null,
 "allowComputeTiePoints": false,
 "useStandardizedQueries": true,
 "advancedQueryCapabilities": {
  "useStandardizedQueries": true,
  "supportsStatistics": false,
  "supportsOrderBy": false,
  "supportsDistinct": false,
  "supportsPagination": false
 },
 "spatialReference": {
  "wkid": 26910,
  "latestWkid": 26910
 }
}
