{
 "currentVersion": 10.91,
 "serviceDescription": "Airphoto2013",
 "name": "Airphoto2013",
 "description": "",
 "extent": {
  "xmin": 475000,
  "ymin": 5435000,
  "xmax": 507010,
  "ymax": 5458010,
  "spatialReference": {
   "wkid": 26910,
   "latestWkid": 26910
  }
 },
 "initialExtent": {
  "xmin": 475000,
  "ymin": 5435000,
  "xmax": 507010,
  "ymax": 5458010,
  "spatialReference": {
   "wkid": 26910,
   "latestWkid": 26910
  }
 },
 "fullExtent": {
  "xmin": 475000,
  "ymin": 5435000,
  "xmax": 507010,
  "ymax": 5458010,
  "spatialReference": {
   "wkid": 26910,
   "latestWkid": 26910
  }
 },
 "pixelSizeX": 0.1,
 "pixelSizeY": 0.1,
 "bandCount": 3,
 "pixelType": "U8",
 "minPixelSize": 0,
 "maxPixelSize": 0,
 "copyrightText": "",
 "serviceDataType": "esriImageServiceDataTypeRGB",
 "minValues": [
  0,
  0,
  0
 ],
 "maxValues": [
  213,
  212,
  196
 ],
 "meanValues": [
  58.760159893404,
  58.778369975572,
  48.266266933156
 ],
 "stdvValues": [
  49.339953789028,
  47.596546372273,
  40.141709191028
 ],
 "objectIdField": "",
 "fields": [],
 "capabilities": "Image,Metadata",
 "defaultMosaicMethod": "Center",
 "allowedMosaicMethods": "",
 "sortField": "",
 "sortValue": null,
 "sortAscending": true,
 "mosaicOperator": "First",
 "defaultCompressionQuality": 75,
 "defaultResamplingMethod": "Bilinear",
 "maxImageHeight": 4100,
 "maxImageWidth": 15000,
 "allowRasterFunction": true,
 "rasterFunctionInfos": [
  {
   "name": "None",
   "description": "",
   "help": ""
  }
 ],
 "rasterTypeInfos": [
  {
   "name": "Raster Dataset",
   "description": "Supports all ArcGIS Raster Datasets",
   "help": ""
  }
 ],
 "mensurationCapabilities": "",
 "hasHistograms": true,
 "hasColormap": false,
 "hasRasterAttributeTable": false,
 "minScale": 0,
 "maxScale": 0,
 "exportTilesAllowed": false,
 "hasMultidimensions": false,
 "supportsStatistics": false,
 "supportsAdvancedQueries": false,
 "editFieldsInfo": null,
 "ownershipBasedAccessControlForRasters": null,
 "allowComputeTiePoints": false,
 "useStandardizedQueries": true,
 "advancedQueryCapabilities": {
  "useStandardizedQueries": true,
  "supportsStatistics": false,
  "supportsOrderBy": false,
  "supportsDistinct": false,
  "supportsPagination": false
 },
 "spatialReference": {
  "wkid": 26910,
  "latestWkid": 26910
 }
}
