View In:
ArcGIS JavaScript
ArcGIS Online Map Viewer
ArcGIS Earth
ArcMap
View Footprint In:
ArcGIS Online Map Viewer
Service Description: AirPhoto2005
Name: AirPhoto2005
Description:
Single Fused Map Cache: false
Extent:
XMin: 477139.0
YMin: 5435671.99988433
XMax: 505939.0000100583
YMax: 5456372.0
Spatial Reference: 26910
(26910)
LatestVCSWkid(0)
Initial Extent:
XMin: 477139.0
YMin: 5435671.99988433
XMax: 505939.0000100583
YMax: 5456372.0
Spatial Reference: 26910
(26910)
LatestVCSWkid(0)
Full Extent:
XMin: 477139.0
YMin: 5435671.99988433
XMax: 505939.0000100583
YMax: 5456372.0
Spatial Reference: 26910
(26910)
LatestVCSWkid(0)
Pixel Size X: 0.1000000000349246
Pixel Size Y: 0.10000000055879354
Band Count: 3
Pixel Type: U8
RasterFunction Infos: {"rasterFunctionInfos": [{
"name": "None",
"description": "",
"help": ""
}]}
Mensuration Capabilities: Basic
Has Histograms: true
Has Colormap: false
Has Multi Dimensions : false
Rendering Rule:
Min Scale: 0
Max Scale: 0
Copyright Text:
Service Data Type: esriImageServiceDataTypeProcessed
Min Values: 0, 0, 0
Max Values: 255, 255, 255
Mean Values: 62.738470035902, 67.777409555371, 58.456503728252
Standard Deviation Values: 76.489963622487, 79.98139211944, 72.984267009874
Object ID Field:
Fields:
None
Default Mosaic Method: Center
Allowed Mosaic Methods:
SortField:
SortValue: null
Mosaic Operator: First
Default Compression Quality: 75
Default Resampling Method: Bilinear
Max Record Count: null
Max Image Height: 4100
Max Image Width: 15000
Max Download Image Count: null
Max Mosaic Image Count: null
Allow Raster Function: true
Allow Copy: null
Allow Analysis: null
Allow Compute TiePoints: false
Supports Statistics: false
Supports Advanced Queries: false
Use StandardizedQueries: true
Raster Type Infos:
Name: Raster Dataset
Description: Supports all ArcGIS Raster Datasets
Help:
Has Raster Attribute Table: false
Edit Fields Info: null
Ownership Based AccessControl For Rasters: null
Child Resources:
Info
Histograms
Key Properties
Legend
Raster Function Infos
Supported Operations:
Export Image
Identify
Measure
Compute Histograms
Compute Statistics Histograms
Get Samples
Compute Class Statistics
Query Boundary
Compute Pixel Location
Compute Angles
Validate
Project