View In:
ArcGIS JavaScript
ArcGIS Online Map Viewer
ArcGIS Earth
ArcMap
View Footprint In:
ArcGIS Online Map Viewer
Service Description: AirPhoto2011
Name: AirPhoto2011
Description:
Single Fused Map Cache: false
Extent:
XMin: 479000.0
YMin: 5436000.0
XMax: 504010.0
YMax: 5454010.0
Spatial Reference: 26910
(26910)
LatestVCSWkid(0)
Initial Extent:
XMin: 479000.0
YMin: 5436000.0
XMax: 504010.0
YMax: 5454010.0
Spatial Reference: 26910
(26910)
LatestVCSWkid(0)
Full Extent:
XMin: 479000.0
YMin: 5436000.0
XMax: 504010.0
YMax: 5454010.0
Spatial Reference: 26910
(26910)
LatestVCSWkid(0)
Pixel Size X: 0.1
Pixel Size Y: 0.1
Band Count: 3
Pixel Type: U8
RasterFunction Infos: {"rasterFunctionInfos": [{
"name": "None",
"description": "",
"help": ""
}]}
Mensuration Capabilities:
Has Histograms: true
Has Colormap: false
Has Multi Dimensions : false
Rendering Rule:
Min Scale: 0
Max Scale: 0
Copyright Text:
Service Data Type: esriImageServiceDataTypeRGB
Min Values: 0, 0, 0
Max Values: 255, 255, 255
Mean Values: 167.88929618768, 162.49706744868, 156.21151026393
Standard Deviation Values: 79.809975396679, 84.032849446639, 89.044008194673
Object ID Field:
Fields:
None
Default Mosaic Method: Center
Allowed Mosaic Methods:
SortField:
SortValue: null
Mosaic Operator: First
Default Compression Quality: 75
Default Resampling Method: Bilinear
Max Record Count: null
Max Image Height: 4100
Max Image Width: 15000
Max Download Image Count: null
Max Mosaic Image Count: null
Allow Raster Function: true
Allow Copy: null
Allow Analysis: null
Allow Compute TiePoints: false
Supports Statistics: false
Supports Advanced Queries: false
Use StandardizedQueries: true
Raster Type Infos:
Name: Raster Dataset
Description: Supports all ArcGIS Raster Datasets
Help:
Has Raster Attribute Table: false
Edit Fields Info: null
Ownership Based AccessControl For Rasters: null
Child Resources:
Info
Histograms
Key Properties
Legend
Raster Function Infos
Supported Operations:
Export Image
Identify
Compute Histograms
Compute Statistics Histograms
Get Samples
Compute Class Statistics
Query Boundary
Compute Pixel Location
Compute Angles
Validate
Project