View In:
ArcGIS JavaScript
ArcGIS Online Map Viewer
ArcGIS Earth
ArcMap
View Footprint In:
ArcGIS Online Map Viewer
Service Description: AirPhoto2020
Name: AirPhoto2020
Description:
Single Fused Map Cache: false
Extent:
XMin: 475500.0
YMin: 5436000.0
XMax: 507000.0
YMax: 5457000.0
Spatial Reference: 3157
(3157)
LatestVCSWkid(0)
Initial Extent:
XMin: 475500.0
YMin: 5436000.0
XMax: 507000.0
YMax: 5457000.0
Spatial Reference: 3157
(3157)
LatestVCSWkid(0)
Full Extent:
XMin: 475500.0
YMin: 5436000.0
XMax: 507000.0
YMax: 5457000.0
Spatial Reference: 3157
(3157)
LatestVCSWkid(0)
Pixel Size X: 0.075
Pixel Size Y: 0.075
Band Count: 4
Pixel Type: U8
RasterFunction Infos: {"rasterFunctionInfos": [{
"name": "None",
"description": "",
"help": ""
}]}
Mensuration Capabilities: Basic
Has Histograms: true
Has Colormap: false
Has Multi Dimensions : false
Rendering Rule:
Min Scale: 0
Max Scale: 0
Copyright Text:
Service Data Type: esriImageServiceDataTypeGeneric
Min Values: 7, 18, 14, 255
Max Values: 255, 255, 255, 255
Mean Values: 130.04390037991, 131.24736175602, 120.59743914451, 255
Standard Deviation Values: 68.588053876216, 65.5246720113, 70.10039562598, 0
Object ID Field:
Fields:
None
Default Mosaic Method: Center
Allowed Mosaic Methods:
SortField:
SortValue: null
Mosaic Operator: First
Default Compression Quality: 75
Default Resampling Method: Bilinear
Max Record Count: null
Max Image Height: 4100
Max Image Width: 15000
Max Download Image Count: null
Max Mosaic Image Count: null
Allow Raster Function: true
Allow Copy: null
Allow Analysis: null
Allow Compute TiePoints: false
Supports Statistics: false
Supports Advanced Queries: false
Use StandardizedQueries: true
Raster Type Infos:
Name: Raster Dataset
Description: Supports all ArcGIS Raster Datasets
Help:
Has Raster Attribute Table: false
Edit Fields Info: null
Ownership Based AccessControl For Rasters: null
Child Resources:
Info
Histograms
Key Properties
Legend
Raster Function Infos
Supported Operations:
Export Image
Identify
Measure
Compute Histograms
Compute Statistics Histograms
Get Samples
Compute Class Statistics
Query Boundary
Compute Pixel Location
Compute Angles
Validate
Project