View In:
ArcGIS JavaScript
ArcGIS Online Map Viewer
ArcGIS Earth
ArcMap
View Footprint In:
ArcGIS Online Map Viewer
Service Description: AirPhotoSpring2025
Name: AirPhotoSpring2025
Description:
Single Fused Map Cache: false
Extent:
XMin: 476866.65
YMin: 5436797.85
XMax: 506481.525
YMax: 5456010.6
Spatial Reference: 26910
(26910)
LatestVCSWkid(0)
Initial Extent:
XMin: 476866.65
YMin: 5436797.85
XMax: 506481.525
YMax: 5456010.6
Spatial Reference: 26910
(26910)
LatestVCSWkid(0)
Full Extent:
XMin: 476866.65
YMin: 5436797.85
XMax: 506481.525
YMax: 5456010.6
Spatial Reference: 26910
(26910)
LatestVCSWkid(0)
Pixel Size X: 0.075
Pixel Size Y: 0.075
Band Count: 3
Pixel Type: U8
RasterFunction Infos: {"rasterFunctionInfos": [{
"name": "None",
"description": "",
"help": ""
}]}
Mensuration Capabilities: Basic
Has Histograms: true
Has Colormap: false
Has Multi Dimensions : false
Rendering Rule:
Min Scale: 0
Max Scale: 0
Copyright Text:
Service Data Type: esriImageServiceDataTypeScientific
Min Values: 0, 0, 0
Max Values: 173, 168, 156
Mean Values: 44.282114220259, 43.638193421699, 38.75225004091
Standard Deviation Values: 50.894222022043, 49.646363626301, 44.356732332874
Object ID Field:
Fields:
None
Default Mosaic Method: Center
Allowed Mosaic Methods:
SortField:
SortValue: null
Mosaic Operator: First
Default Compression Quality: 75
Default Resampling Method: Bilinear
Max Record Count: null
Max Image Height: 4100
Max Image Width: 15000
Max Download Image Count: null
Max Mosaic Image Count: null
Allow Raster Function: true
Allow Copy: null
Allow Analysis: null
Allow Compute TiePoints: false
Supports Statistics: false
Supports Advanced Queries: false
Use StandardizedQueries: true
Raster Type Infos:
Name: Raster Dataset
Description: Supports all ArcGIS Raster Datasets
Help:
Has Raster Attribute Table: false
Edit Fields Info: null
Ownership Based AccessControl For Rasters: null
Child Resources:
Info
Histograms
Key Properties
Legend
Raster Function Infos
Supported Operations:
Export Image
Identify
Measure
Compute Histograms
Compute Statistics Histograms
Get Samples
Compute Class Statistics
Query Boundary
Compute Pixel Location
Compute Angles
Validate
Project