View In:
ArcGIS JavaScript
ArcGIS Online Map Viewer
ArcGIS Earth
ArcMap
View Footprint In:
ArcGIS Online Map Viewer
Service Description: AirPhoto2021_26910
Name: AirPhoto2021_26910
Description:
Single Fused Map Cache: false
Extent:
XMin: 475499.99999999907
YMin: 5436000.100000001
XMax: 506999.8999999991
YMax: 5457000.000000001
Spatial Reference: 26910
(26910)
LatestVCSWkid(0)
Initial Extent:
XMin: 475499.99999999907
YMin: 5436000.100000001
XMax: 506999.8999999991
YMax: 5457000.000000001
Spatial Reference: 26910
(26910)
LatestVCSWkid(0)
Full Extent:
XMin: 475499.99999999907
YMin: 5436000.100000001
XMax: 506999.8999999991
YMax: 5457000.000000001
Spatial Reference: 26910
(26910)
LatestVCSWkid(0)
Pixel Size X: 0.10000000000000007
Pixel Size Y: 0.10000000000000177
Band Count: 3
Pixel Type: U8
RasterFunction Infos: {"rasterFunctionInfos": [{
"name": "None",
"description": "",
"help": ""
}]}
Mensuration Capabilities: Basic
Has Histograms: true
Has Colormap: false
Has Multi Dimensions : false
Rendering Rule:
Min Scale: 0
Max Scale: 0
Copyright Text:
Service Data Type: esriImageServiceDataTypeRGB
Min Values: 0, 0, 0
Max Values: 255, 255, 255
Mean Values: 137.87587412587, 140.89235764236, 132.03971028971
Standard Deviation Values: 69.317475537884, 66.460974191216, 70.446532615583
Object ID Field:
Fields:
None
Default Mosaic Method: Center
Allowed Mosaic Methods:
SortField:
SortValue: null
Mosaic Operator: First
Default Compression Quality: 75
Default Resampling Method: Bilinear
Max Record Count: null
Max Image Height: 4100
Max Image Width: 15000
Max Download Image Count: null
Max Mosaic Image Count: null
Allow Raster Function: true
Allow Copy: true
Allow Analysis: true
Allow Compute TiePoints: false
Supports Statistics: false
Supports Advanced Queries: false
Use StandardizedQueries: true
Raster Type Infos:
Name: Raster Dataset
Description: Supports all ArcGIS Raster Datasets
Help:
Has Raster Attribute Table: false
Edit Fields Info: null
Ownership Based AccessControl For Rasters: null
Child Resources:
Info
Histograms
Statistics
Key Properties
Legend
Raster Function Infos
Supported Operations:
Export Image
Identify
Measure
Compute Histograms
Compute Statistics Histograms
Get Samples
Compute Class Statistics
Query Boundary
Compute Pixel Location
Compute Angles
Validate
Project